BEGIN:VCALENDAR
VERSION:2.0
PRODID:-//wp-events-plugin.com//7.2.3.1//EN
TZID:America/Los_Angeles
X-WR-TIMEZONE:America/Los_Angeles
BEGIN:VEVENT
UID:166@claremontcert.org
DTSTART;TZID=America/Los_Angeles:20260502T000000
DTEND;TZID=America/Los_Angeles:20260502T000000
DTSTAMP:20260421T172937Z
URL:https://www.claremontcert.org/events/truck-trailer-training-saturday-m
 ay-2-2026/
SUMMARY:Truck & Trailer Training – Saturday\, May 2\, 2026
DESCRIPTION:This training is intended to re-certify persons currently autho
 rized to drive the truck and trailer\, and any new individuals who would l
 ike to be authorized. The truck and trailer are used at events and during 
 emergency response.
END:VEVENT
BEGIN:VTIMEZONE
TZID:America/Los_Angeles
X-LIC-LOCATION:America/Los_Angeles
BEGIN:DAYLIGHT
DTSTART:20260308T030000
TZOFFSETFROM:-0800
TZOFFSETTO:-0700
TZNAME:PDT
END:DAYLIGHT
END:VTIMEZONE
END:VCALENDAR