BEGIN:VCALENDAR
VERSION:2.0
PRODID:-//wp-events-plugin.com//7.2.3.1//EN
TZID:America/Los_Angeles
X-WR-TIMEZONE:America/Los_Angeles
BEGIN:VEVENT
UID:167@claremontcert.org
DTSTART;TZID=America/Los_Angeles:20260509T080000
DTEND;TZID=America/Los_Angeles:20260509T120000
DTSTAMP:20260421T173039Z
URL:https://www.claremontcert.org/events/storage-cube-reorganization-satur
 day-may-9-2026/
SUMMARY:Storage Cube Reorganization - Saturday\, May 9\, 2026\,
DESCRIPTION:There will be two shifts for this event: 8:00 - 10:00 AM &amp\;
  10:00 - 12:00 PM.
LOCATION:Claremont Police Department\, 570 W. Bonita\, Claremont\, CA\, 917
 11\, United States
X-APPLE-STRUCTURED-LOCATION;VALUE=URI;X-ADDRESS=570 W. Bonita\, Claremont\,
  CA\, 91711\, United States;X-APPLE-RADIUS=100;X-TITLE=Claremont Police De
 partment:geo:0,0
END:VEVENT
BEGIN:VTIMEZONE
TZID:America/Los_Angeles
X-LIC-LOCATION:America/Los_Angeles
BEGIN:DAYLIGHT
DTSTART:20260308T030000
TZOFFSETFROM:-0800
TZOFFSETTO:-0700
TZNAME:PDT
END:DAYLIGHT
END:VTIMEZONE
END:VCALENDAR