BEGIN:VCALENDAR
VERSION:2.0
PRODID:-//wp-events-plugin.com//7.2.3.1//EN
TZID:America/Los_Angeles
X-WR-TIMEZONE:America/Los_Angeles
BEGIN:VEVENT
UID:168@claremontcert.org
DTSTART;TZID=America/Los_Angeles:20260519T173000
DTEND;TZID=America/Los_Angeles:20260519T190000
DTSTAMP:20260421T173127Z
URL:https://www.claremontcert.org/events/bystander-cpr-review-tuesday-may-
 19/
SUMMARY:Bystander CPR Review - Tuesday\, May 19
DESCRIPTION:
LOCATION:ALEXANDER HUGHES COMMUNITY CENTER\, 1700 Danbury Road\, Claremont\
 , Ca\, 91711\, United States
X-APPLE-STRUCTURED-LOCATION;VALUE=URI;X-ADDRESS=1700 Danbury Road\, Claremo
 nt\, Ca\, 91711\, United States;X-APPLE-RADIUS=100;X-TITLE=ALEXANDER HUGHE
 S COMMUNITY CENTER:geo:0,0
END:VEVENT
BEGIN:VTIMEZONE
TZID:America/Los_Angeles
X-LIC-LOCATION:America/Los_Angeles
BEGIN:DAYLIGHT
DTSTART:20260308T030000
TZOFFSETFROM:-0800
TZOFFSETTO:-0700
TZNAME:PDT
END:DAYLIGHT
END:VTIMEZONE
END:VCALENDAR